BEGIN:VCALENDAR
VERSION:2.0
PRODID:-//Lebendiger Adventskalender Linden-Süd - ECPv6.15.20//NONSGML v1.0//EN
CALSCALE:GREGORIAN
METHOD:PUBLISH
X-WR-CALNAME:Lebendiger Adventskalender Linden-Süd
X-ORIGINAL-URL:https://lebendiger-adventskalender-ls.de
X-WR-CALDESC:Veranstaltungen für Lebendiger Adventskalender Linden-Süd
REFRESH-INTERVAL;VALUE=DURATION:PT1H
X-Robots-Tag:noindex
X-PUBLISHED-TTL:PT1H
BEGIN:VTIMEZONE
TZID:Europe/Berlin
BEGIN:DAYLIGHT
TZOFFSETFROM:+0100
TZOFFSETTO:+0200
TZNAME:CEST
DTSTART:20230326T010000
END:DAYLIGHT
BEGIN:STANDARD
TZOFFSETFROM:+0200
TZOFFSETTO:+0100
TZNAME:CET
DTSTART:20231029T010000
END:STANDARD
BEGIN:DAYLIGHT
TZOFFSETFROM:+0100
TZOFFSETTO:+0200
TZNAME:CEST
DTSTART:20240331T010000
END:DAYLIGHT
BEGIN:STANDARD
TZOFFSETFROM:+0200
TZOFFSETTO:+0100
TZNAME:CET
DTSTART:20241027T010000
END:STANDARD
BEGIN:DAYLIGHT
TZOFFSETFROM:+0100
TZOFFSETTO:+0200
TZNAME:CEST
DTSTART:20250330T010000
END:DAYLIGHT
BEGIN:STANDARD
TZOFFSETFROM:+0200
TZOFFSETTO:+0100
TZNAME:CET
DTSTART:20251026T010000
END:STANDARD
END:VTIMEZONE
BEGIN:VEVENT
DTSTART;TZID=Europe/Berlin:20241213T140000
DTEND;TZID=Europe/Berlin:20241213T180000
DTSTAMP:20260422T105115
CREATED:20241204T151111Z
LAST-MODIFIED:20241204T151111Z
UID:43478-1734098400-1734112800@lebendiger-adventskalender-ls.de
SUMMARY:kreHtiver Winter-PopUp
DESCRIPTION:Am 13. und 14. Dezember lädt das kreHtiv Netzwerk Hannover e.V. herzlich zum kreHtiven Winter-PopUp ein!\nAm Freitag und Samstag öffnen sich von je 14 bis 18 Uhr die Türen der Werkstätten der HALLE96 für kleines und großes Winter-Shopping bei Heißgetränken und süßen Leckereien. Neben Bekleidung findet ihr hier auch Accessoires wie Taschen\, Scrunchies oder Schmuck sowie Wohnaccessoires und vieles mehr. Kommt vorbei\, stöbert euch durch das vielseitige Angebot und findet noch das ein oder andere Weihnachtsgeschenk!\nWir freuen uns auf euch! ❄️🌲
URL:https://lebendiger-adventskalender-ls.de/termin/krehtiver-winter-popup
LOCATION:Werkstätten der HALLE96\, Hanomaghof 2\, Hannover\, Niedersachsen\, 30449\, Germany
ATTACH;FMTTYPE=image/jpeg:https://lebendiger-adventskalender-ls.de/wp-content/uploads/2024/12/Winter_PopUp_24-3.jpg
END:VEVENT
END:VCALENDAR