BEGIN:VCALENDAR
VERSION:2.0
PRODID:-//Lebendiger Adventskalender Linden-Süd - ECPv6.15.20//NONSGML v1.0//EN
CALSCALE:GREGORIAN
METHOD:PUBLISH
X-WR-CALNAME:Lebendiger Adventskalender Linden-Süd
X-ORIGINAL-URL:https://lebendiger-adventskalender-ls.de
X-WR-CALDESC:Veranstaltungen für Lebendiger Adventskalender Linden-Süd
REFRESH-INTERVAL;VALUE=DURATION:PT1H
X-Robots-Tag:noindex
X-PUBLISHED-TTL:PT1H
BEGIN:VTIMEZONE
TZID:Europe/Berlin
BEGIN:DAYLIGHT
TZOFFSETFROM:+0100
TZOFFSETTO:+0200
TZNAME:CEST
DTSTART:20240331T010000
END:DAYLIGHT
BEGIN:STANDARD
TZOFFSETFROM:+0200
TZOFFSETTO:+0100
TZNAME:CET
DTSTART:20241027T010000
END:STANDARD
BEGIN:DAYLIGHT
TZOFFSETFROM:+0100
TZOFFSETTO:+0200
TZNAME:CEST
DTSTART:20250330T010000
END:DAYLIGHT
BEGIN:STANDARD
TZOFFSETFROM:+0200
TZOFFSETTO:+0100
TZNAME:CET
DTSTART:20251026T010000
END:STANDARD
BEGIN:DAYLIGHT
TZOFFSETFROM:+0100
TZOFFSETTO:+0200
TZNAME:CEST
DTSTART:20260329T010000
END:DAYLIGHT
BEGIN:STANDARD
TZOFFSETFROM:+0200
TZOFFSETTO:+0100
TZNAME:CET
DTSTART:20261025T010000
END:STANDARD
END:VTIMEZONE
BEGIN:VEVENT
DTSTART;TZID=Europe/Berlin:20251201T160000
DTEND;TZID=Europe/Berlin:20251201T180000
DTSTAMP:20260420T111408
CREATED:20251109T170717Z
LAST-MODIFIED:20251111T083351Z
UID:59258-1764604800-1764612000@lebendiger-adventskalender-ls.de
SUMMARY:Weihnachtscountdown
DESCRIPTION:Wir laden euch ein\, mit uns einen kleinen Schneemann zu basteln\, der uns mit seiner Nase Tag für Tag durch den Advent bis zum Heiligabend begleitet. Scheren\, Kleber und Stifte liegen bereit.\nAlle Kinder von Klasse 1 bis 5 sind herzlich willkommen!
URL:https://lebendiger-adventskalender-ls.de/termin/weihnachtscountdown
LOCATION:PLiNKe\, Plinkestraße 5\, Hannover\, 30449
ATTACH;FMTTYPE=image/jpeg:https://lebendiger-adventskalender-ls.de/wp-content/uploads/2025/11/0112-plinke-scaled.jpg
END:VEVENT
END:VCALENDAR