BEGIN:VCALENDAR
VERSION:2.0
PRODID:-//Lebendiger Adventskalender Linden-Süd - ECPv6.15.20//NONSGML v1.0//EN
CALSCALE:GREGORIAN
METHOD:PUBLISH
X-WR-CALNAME:Lebendiger Adventskalender Linden-Süd
X-ORIGINAL-URL:https://lebendiger-adventskalender-ls.de
X-WR-CALDESC:Veranstaltungen für Lebendiger Adventskalender Linden-Süd
REFRESH-INTERVAL;VALUE=DURATION:PT1H
X-Robots-Tag:noindex
X-PUBLISHED-TTL:PT1H
BEGIN:VTIMEZONE
TZID:Europe/Berlin
BEGIN:DAYLIGHT
TZOFFSETFROM:+0100
TZOFFSETTO:+0200
TZNAME:CEST
DTSTART:20240331T010000
END:DAYLIGHT
BEGIN:STANDARD
TZOFFSETFROM:+0200
TZOFFSETTO:+0100
TZNAME:CET
DTSTART:20241027T010000
END:STANDARD
BEGIN:DAYLIGHT
TZOFFSETFROM:+0100
TZOFFSETTO:+0200
TZNAME:CEST
DTSTART:20250330T010000
END:DAYLIGHT
BEGIN:STANDARD
TZOFFSETFROM:+0200
TZOFFSETTO:+0100
TZNAME:CET
DTSTART:20251026T010000
END:STANDARD
BEGIN:DAYLIGHT
TZOFFSETFROM:+0100
TZOFFSETTO:+0200
TZNAME:CEST
DTSTART:20260329T010000
END:DAYLIGHT
BEGIN:STANDARD
TZOFFSETFROM:+0200
TZOFFSETTO:+0100
TZNAME:CET
DTSTART:20261025T010000
END:STANDARD
END:VTIMEZONE
BEGIN:VEVENT
DTSTART;TZID=Europe/Berlin:20251204T193000
DTEND;TZID=Europe/Berlin:20251204T193000
DTSTAMP:20260421T100751
CREATED:20251109T171819Z
LAST-MODIFIED:20251109T171900Z
UID:59267-1764876600-1764876600@lebendiger-adventskalender-ls.de
SUMMARY:Weihnachtssitzung des Stadtteilforums Linden-Süd
DESCRIPTION:Das Stadtteilforum Linden-Süd lädt ein zu einem gemütlichen Abend mit Austausch und Informationen rund um den Stadtteil. Es gibt Punsch und Kekse.\nAlle sind herzlich willkommen!
URL:https://lebendiger-adventskalender-ls.de/termin/weihnachtssitzung-des-stadtteilforums-linden-sued
LOCATION:Café Allerlei\, Allerweg 7–9\, Hannover\, 30449
ATTACH;FMTTYPE=image/jpeg:https://lebendiger-adventskalender-ls.de/wp-content/uploads/2025/11/0412-Stadtteilforum-scaled.jpg
END:VEVENT
END:VCALENDAR