BEGIN:VCALENDAR
VERSION:2.0
PRODID:-//Lebendiger Adventskalender Linden-Süd - ECPv6.15.20//NONSGML v1.0//EN
CALSCALE:GREGORIAN
METHOD:PUBLISH
X-WR-CALNAME:Lebendiger Adventskalender Linden-Süd
X-ORIGINAL-URL:https://lebendiger-adventskalender-ls.de
X-WR-CALDESC:Veranstaltungen für Lebendiger Adventskalender Linden-Süd
REFRESH-INTERVAL;VALUE=DURATION:PT1H
X-Robots-Tag:noindex
X-PUBLISHED-TTL:PT1H
BEGIN:VTIMEZONE
TZID:Europe/Berlin
BEGIN:DAYLIGHT
TZOFFSETFROM:+0100
TZOFFSETTO:+0200
TZNAME:CEST
DTSTART:20220327T010000
END:DAYLIGHT
BEGIN:STANDARD
TZOFFSETFROM:+0200
TZOFFSETTO:+0100
TZNAME:CET
DTSTART:20221030T010000
END:STANDARD
BEGIN:DAYLIGHT
TZOFFSETFROM:+0100
TZOFFSETTO:+0200
TZNAME:CEST
DTSTART:20230326T010000
END:DAYLIGHT
BEGIN:STANDARD
TZOFFSETFROM:+0200
TZOFFSETTO:+0100
TZNAME:CET
DTSTART:20231029T010000
END:STANDARD
BEGIN:DAYLIGHT
TZOFFSETFROM:+0100
TZOFFSETTO:+0200
TZNAME:CEST
DTSTART:20240331T010000
END:DAYLIGHT
BEGIN:STANDARD
TZOFFSETFROM:+0200
TZOFFSETTO:+0100
TZNAME:CET
DTSTART:20241027T010000
END:STANDARD
END:VTIMEZONE
BEGIN:VEVENT
DTSTART;TZID=Europe/Berlin:20231201T170000
DTEND;TZID=Europe/Berlin:20231201T170000
DTSTAMP:20260421T100624
CREATED:20231108T111020Z
LAST-MODIFIED:20231108T111600Z
UID:41999-1701450000-1701450000@lebendiger-adventskalender-ls.de
SUMMARY:Winterfest am Nachbarschaftskiosk Sporlederweg
DESCRIPTION:Am Samstag\, den 1. Dezember 2023\, wird der Nachbarschaftskiosk im Sporlederweg in Hannover sein Winterfest feiern. Das Fest beginnt um 17 Uhr und dauert bis in den Abend hinein. \nFür das leibliche Wohl ist natürlich gesorgt. Es wird gegrillt\, es gibt Tortilla und türkischen Tee. \nDie Organisatoren des Festes freuen sich auf viele Besucherinnen und Besucher. Sie möchten mit diesem Fest die Nachbarschaft stärken und ein Zeichen der Gemeinschaft setzen. \nKostenfrei und draußen!
URL:https://lebendiger-adventskalender-ls.de/termin/winterfest-am-nachbarschaftskiosk-sporlederweg
LOCATION:Kiosk Sporlederweg\, Sporlederweg 13B\, Hannover\, 30449\, Deutschland
ATTACH;FMTTYPE=image/jpeg:https://lebendiger-adventskalender-ls.de/wp-content/uploads/2021/11/01-Kioskprojekt_klein.jpg
END:VEVENT
END:VCALENDAR